BEGIN:VCALENDAR
VERSION:2.0
PRODID:-//Big City Runners - ECPv6.15.20//NONSGML v1.0//EN
CALSCALE:GREGORIAN
METHOD:PUBLISH
X-WR-CALNAME:Big City Runners
X-ORIGINAL-URL:https://bigcityrunners.com
X-WR-CALDESC:Veranstaltungen für Big City Runners
REFRESH-INTERVAL;VALUE=DURATION:PT1H
X-Robots-Tag:noindex
X-PUBLISHED-TTL:PT1H
BEGIN:VTIMEZONE
TZID:UTC
BEGIN:STANDARD
TZOFFSETFROM:+0000
TZOFFSETTO:+0000
TZNAME:UTC
DTSTART:20240101T000000
END:STANDARD
END:VTIMEZONE
BEGIN:VEVENT
DTSTART;TZID=UTC:20250103T000000
DTEND;TZID=UTC:20250103T000000
DTSTAMP:20260422T052438
CREATED:20240313T095754Z
LAST-MODIFIED:20240313T104515Z
UID:2095-1735862400-1735862400@bigcityrunners.com
SUMMARY:47. Tiberias Sea of Galilee International "Winner" Marathon
DESCRIPTION:Tiberias; Israel – Klick für Bewertung \n                    \n                         Stimmung an der Strecke\n                    \n                    \n                0\n              \n                    \n                         Wie schön ist die Strecke?\n                    \n                    \n                0\n              \n                    \n                         Lohnt es sich als City-Trip?\n                    \n                    \n                0\n              \n                    \n                         Versorgung während des Laufs\n                    \n                    \n                0\n              \n                    \n                         Preis/Leistung\n                    \n                    \n                0\n              \n                    \n                         Organisation generell\n                    \n                    \n                0\n              \n                    \n                        \n                            Durchschnittlich\n                            \n                        \n                    \n                \n                                    \n                                        \n                                        \n                                   \n                              \n                                        \n                                    \n                                \nAverage Rating\n					\n					\n				\n					\n					\n				\n					\n					\n				\n					\n					\n				\n					\n					\n				\n					\n					\n					0 out of 5 stars. 0 votes.
URL:https://bigcityrunners.com/event/47-tiberias-sea-of-galilee-international-winner-marathon/
CATEGORIES:Marathon
END:VEVENT
BEGIN:VEVENT
DTSTART;TZID=UTC:20250104T000000
DTEND;TZID=UTC:20250104T000000
DTSTAMP:20260422T052438
CREATED:20240313T095755Z
LAST-MODIFIED:20240313T104515Z
UID:2096-1735948800-1735948800@bigcityrunners.com
SUMMARY:5. PolarNight Ishavskraft Marathon
DESCRIPTION:Tromso; Norwegen – Klick für Bewertung \n                    \n                         Stimmung an der Strecke\n                    \n                    \n                0\n              \n                    \n                         Wie schön ist die Strecke?\n                    \n                    \n                0\n              \n                    \n                         Lohnt es sich als City-Trip?\n                    \n                    \n                0\n              \n                    \n                         Versorgung während des Laufs\n                    \n                    \n                0\n              \n                    \n                         Preis/Leistung\n                    \n                    \n                0\n              \n                    \n                         Organisation generell\n                    \n                    \n                0\n              \n                    \n                        \n                            Durchschnittlich\n                            \n                        \n                    \n                \n                                    \n                                        \n                                        \n                                   \n                              \n                                        \n                                    \n                                \nAverage Rating\n					\n					\n				\n					\n					\n				\n					\n					\n				\n					\n					\n				\n					\n					\n				\n					\n					\n					0 out of 5 stars. 0 votes.
URL:https://bigcityrunners.com/event/5-polarnight-ishavskraft-marathon/
CATEGORIES:Marathon
END:VEVENT
BEGIN:VEVENT
DTSTART;TZID=UTC:20250112T000000
DTEND;TZID=UTC:20250112T000000
DTSTAMP:20260422T052438
CREATED:20240313T100025Z
LAST-MODIFIED:20240313T100025Z
UID:2294-1736640000-1736640000@bigcityrunners.com
SUMMARY:31. Walt Disney World Marathon
DESCRIPTION:Orlando; USA-Florida \nAverage Rating\n					\n					\n				\n					\n					\n				\n					\n					\n				\n					\n					\n				\n					\n					\n				\n					\n					\n					0 out of 5 stars. 0 votes.
URL:https://bigcityrunners.com/event/31-walt-disney-world-marathon/
END:VEVENT
BEGIN:VEVENT
DTSTART;TZID=UTC:20250119T000000
DTEND;TZID=UTC:20250119T000000
DTSTAMP:20260422T052438
CREATED:20240313T100026Z
LAST-MODIFIED:20240313T100026Z
UID:2295-1737244800-1737244800@bigcityrunners.com
SUMMARY:53. Chevron Houston Marathon
DESCRIPTION:Houston; USA-Texas \nAverage Rating\n					\n					\n				\n					\n					\n				\n					\n					\n				\n					\n					\n				\n					\n					\n				\n					\n					\n					0 out of 5 stars. 0 votes.
URL:https://bigcityrunners.com/event/53-chevron-houston-marathon/
END:VEVENT
BEGIN:VEVENT
DTSTART;TZID=UTC:20250126T000000
DTEND;TZID=UTC:20250126T000000
DTSTAMP:20260422T052438
CREATED:20240313T100026Z
LAST-MODIFIED:20240313T100026Z
UID:2296-1737849600-1737849600@bigcityrunners.com
SUMMARY:5. Islamabad Marathon
DESCRIPTION:Islamabad; Pakistan \nAverage Rating\n					\n					\n				\n					\n					\n				\n					\n					\n				\n					\n					\n				\n					\n					\n				\n					\n					\n					0 out of 5 stars. 0 votes.
URL:https://bigcityrunners.com/event/5-islamabad-marathon/
END:VEVENT
BEGIN:VEVENT
DTSTART;TZID=UTC:20250131T000000
DTEND;TZID=UTC:20250131T000000
DTSTAMP:20260422T052438
CREATED:20240313T100203Z
LAST-MODIFIED:20240313T100203Z
UID:2297-1738281600-1738281600@bigcityrunners.com
SUMMARY:8. World Marathon Challenge - Antarctica Intercontinental Marathon*(7 Marathons | 7 Continents | 7 Days)
DESCRIPTION:Antarctica \nAverage Rating\n					\n					\n				\n					\n					\n				\n					\n					\n				\n					\n					\n				\n					\n					\n				\n					\n					\n					0 out of 5 stars. 0 votes.
URL:https://bigcityrunners.com/event/8-world-marathon-challenge-antarctica-intercontinental-marathon7-marathons-7-continents-7-days/
END:VEVENT
END:VCALENDAR