BEGIN:VCALENDAR
VERSION:2.0
PRODID:-//Big City Runners - ECPv6.15.20//NONSGML v1.0//EN
CALSCALE:GREGORIAN
METHOD:PUBLISH
X-ORIGINAL-URL:https://bigcityrunners.com
X-WR-CALDESC:Veranstaltungen für Big City Runners
REFRESH-INTERVAL;VALUE=DURATION:PT1H
X-Robots-Tag:noindex
X-PUBLISHED-TTL:PT1H
BEGIN:VTIMEZONE
TZID:UTC
BEGIN:STANDARD
TZOFFSETFROM:+0000
TZOFFSETTO:+0000
TZNAME:UTC
DTSTART:20230101T000000
END:STANDARD
END:VTIMEZONE
BEGIN:VEVENT
DTSTART;TZID=UTC:20241207T000000
DTEND;TZID=UTC:20241207T000000
DTSTAMP:20260422T070152
CREATED:20240313T095738Z
LAST-MODIFIED:20240313T104458Z
UID:2077-1733529600-1733529600@bigcityrunners.com
SUMMARY:33. Font Vella Lanzarote Marathon Costa Teguise
DESCRIPTION:Lanzarote; Spanien – Klick für Bewertung \n                    \n                         Stimmung an der Strecke\n                    \n                    \n                0\n              \n                    \n                         Wie schön ist die Strecke?\n                    \n                    \n                0\n              \n                    \n                         Lohnt es sich als City-Trip?\n                    \n                    \n                0\n              \n                    \n                         Versorgung während des Laufs\n                    \n                    \n                0\n              \n                    \n                         Preis/Leistung\n                    \n                    \n                0\n              \n                    \n                         Organisation generell\n                    \n                    \n                0\n              \n                    \n                        \n                            Durchschnittlich\n                            \n                        \n                    \n                \n                                    \n                                        \n                                        \n                                   \n                              \n                                        \n                                    \n                                \nAverage Rating\n					\n					\n				\n					\n					\n				\n					\n					\n				\n					\n					\n				\n					\n					\n				\n					\n					\n					0 out of 5 stars. 0 votes.
URL:https://bigcityrunners.com/event/33-font-vella-lanzarote-marathon-costa-teguise/
CATEGORIES:Marathon
END:VEVENT
BEGIN:VEVENT
DTSTART;TZID=UTC:20241207T000000
DTEND;TZID=UTC:20241207T000000
DTSTAMP:20260422T070152
CREATED:20240313T095738Z
LAST-MODIFIED:20240313T104458Z
UID:2078-1733529600-1733529600@bigcityrunners.com
SUMMARY:21. Mispo Talvemaraton (Winter Marathon)
DESCRIPTION:Vändra; Estland – Klick für Bewertung \n                    \n                         Stimmung an der Strecke\n                    \n                    \n                0\n              \n                    \n                         Wie schön ist die Strecke?\n                    \n                    \n                0\n              \n                    \n                         Lohnt es sich als City-Trip?\n                    \n                    \n                0\n              \n                    \n                         Versorgung während des Laufs\n                    \n                    \n                0\n              \n                    \n                         Preis/Leistung\n                    \n                    \n                0\n              \n                    \n                         Organisation generell\n                    \n                    \n                0\n              \n                    \n                        \n                            Durchschnittlich\n                            \n                        \n                    \n                \n                                    \n                                        \n                                        \n                                   \n                              \n                                        \n                                    \n                                \nAverage Rating\n					\n					\n				\n					\n					\n				\n					\n					\n				\n					\n					\n				\n					\n					\n				\n					\n					\n					0 out of 5 stars. 0 votes.
URL:https://bigcityrunners.com/event/21-mispo-talvemaraton-winter-marathon/
CATEGORIES:Marathon
END:VEVENT
BEGIN:VEVENT
DTSTART;TZID=UTC:20241207T000000
DTEND;TZID=UTC:20241207T000000
DTSTAMP:20260422T070152
CREATED:20240313T100017Z
LAST-MODIFIED:20240313T100020Z
UID:2277-1733529600-1733529600@bigcityrunners.com
SUMMARY:22. St.Jude Memphis Marathon
DESCRIPTION:Memphis; USA-Tennessee \nAverage Rating\n					\n					\n				\n					\n					\n				\n					\n					\n				\n					\n					\n				\n					\n					\n				\n					\n					\n					0 out of 5 stars. 0 votes.
URL:https://bigcityrunners.com/event/22-st-jude-memphis-marathon/
END:VEVENT
BEGIN:VEVENT
DTSTART;TZID=UTC:20241207T000000
DTEND;TZID=UTC:20241207T000000
DTSTAMP:20260422T070152
CREATED:20240313T100019Z
LAST-MODIFIED:20240313T100019Z
UID:2281-1733529600-1733529600@bigcityrunners.com
SUMMARY:22. St.Jude Memphis Marathon
DESCRIPTION:USA-Tennessee \nAverage Rating\n					\n					\n				\n					\n					\n				\n					\n					\n				\n					\n					\n				\n					\n					\n				\n					\n					\n					0 out of 5 stars. 0 votes.
URL:https://bigcityrunners.com/event/22-st-jude-memphis-marathon-2/
END:VEVENT
BEGIN:VEVENT
DTSTART;TZID=UTC:20241208T000000
DTEND;TZID=UTC:20241208T000000
DTSTAMP:20260422T070152
CREATED:20240313T095739Z
LAST-MODIFIED:20240313T104459Z
UID:2079-1733616000-1733616000@bigcityrunners.com
SUMMARY:5. Quantum Nicosia Marathon
DESCRIPTION:Nicosia; Zypern – Klick für Bewertung \n                    \n                         Stimmung an der Strecke\n                    \n                    \n                0\n              \n                    \n                         Wie schön ist die Strecke?\n                    \n                    \n                0\n              \n                    \n                         Lohnt es sich als City-Trip?\n                    \n                    \n                0\n              \n                    \n                         Versorgung während des Laufs\n                    \n                    \n                0\n              \n                    \n                         Preis/Leistung\n                    \n                    \n                0\n              \n                    \n                         Organisation generell\n                    \n                    \n                0\n              \n                    \n                        \n                            Durchschnittlich\n                            \n                        \n                    \n                \n                                    \n                                        \n                                        \n                                   \n                              \n                                        \n                                    \n                                \nAverage Rating\n					\n					\n				\n					\n					\n				\n					\n					\n				\n					\n					\n				\n					\n					\n				\n					\n					\n					0 out of 5 stars. 0 votes.
URL:https://bigcityrunners.com/event/5-quantum-nicosia-marathon/
CATEGORIES:Marathon
END:VEVENT
BEGIN:VEVENT
DTSTART;TZID=UTC:20241208T000000
DTEND;TZID=UTC:20241208T000000
DTSTAMP:20260422T070152
CREATED:20240313T095739Z
LAST-MODIFIED:20240313T104459Z
UID:2080-1733616000-1733616000@bigcityrunners.com
SUMMARY:6. Naturosa Catania Marathon
DESCRIPTION:Catania; Italien – Klick für Bewertung \n                    \n                         Stimmung an der Strecke\n                    \n                    \n                0\n              \n                    \n                         Wie schön ist die Strecke?\n                    \n                    \n                0\n              \n                    \n                         Lohnt es sich als City-Trip?\n                    \n                    \n                0\n              \n                    \n                         Versorgung während des Laufs\n                    \n                    \n                0\n              \n                    \n                         Preis/Leistung\n                    \n                    \n                0\n              \n                    \n                         Organisation generell\n                    \n                    \n                0\n              \n                    \n                        \n                            Durchschnittlich\n                            \n                        \n                    \n                \n                                    \n                                        \n                                        \n                                   \n                              \n                                        \n                                    \n                                \nAverage Rating\n					\n					\n				\n					\n					\n				\n					\n					\n				\n					\n					\n				\n					\n					\n				\n					\n					\n					0 out of 5 stars. 0 votes.
URL:https://bigcityrunners.com/event/6-naturosa-catania-marathon/
CATEGORIES:Marathon
END:VEVENT
BEGIN:VEVENT
DTSTART;TZID=UTC:20241208T000000
DTEND;TZID=UTC:20241208T000000
DTSTAMP:20260422T070152
CREATED:20240313T095740Z
LAST-MODIFIED:20240313T104459Z
UID:2081-1733616000-1733616000@bigcityrunners.com
SUMMARY:4. Paestum Marathon
DESCRIPTION:Paestum; Italien – Klick für Bewertung \n                    \n                         Stimmung an der Strecke\n                    \n                    \n                0\n              \n                    \n                         Wie schön ist die Strecke?\n                    \n                    \n                0\n              \n                    \n                         Lohnt es sich als City-Trip?\n                    \n                    \n                0\n              \n                    \n                         Versorgung während des Laufs\n                    \n                    \n                0\n              \n                    \n                         Preis/Leistung\n                    \n                    \n                0\n              \n                    \n                         Organisation generell\n                    \n                    \n                0\n              \n                    \n                        \n                            Durchschnittlich\n                            \n                        \n                    \n                \n                                    \n                                        \n                                        \n                                   \n                              \n                                        \n                                    \n                                \nAverage Rating\n					\n					\n				\n					\n					\n				\n					\n					\n				\n					\n					\n				\n					\n					\n				\n					\n					\n					0 out of 5 stars. 0 votes.
URL:https://bigcityrunners.com/event/4-paestum-marathon/
CATEGORIES:Marathon
END:VEVENT
BEGIN:VEVENT
DTSTART;TZID=UTC:20241208T000000
DTEND;TZID=UTC:20241208T000000
DTSTAMP:20260422T070152
CREATED:20240313T095744Z
LAST-MODIFIED:20240313T104508Z
UID:2082-1733616000-1733616000@bigcityrunners.com
SUMMARY:28. Maratona di Reggio Emilia Citta del Tricolore
DESCRIPTION:Reggio Emilia; Italien – Klick für Bewertung \n                    \n                         Stimmung an der Strecke\n                    \n                    \n                0\n              \n                    \n                         Wie schön ist die Strecke?\n                    \n                    \n                0\n              \n                    \n                         Lohnt es sich als City-Trip?\n                    \n                    \n                0\n              \n                    \n                         Versorgung während des Laufs\n                    \n                    \n                0\n              \n                    \n                         Preis/Leistung\n                    \n                    \n                0\n              \n                    \n                         Organisation generell\n                    \n                    \n                0\n              \n                    \n                        \n                            Durchschnittlich\n                            \n                        \n                    \n                \n                                    \n                                        \n                                        \n                                   \n                              \n                                        \n                                    \n                                \nAverage Rating\n					\n					\n				\n					\n					\n				\n					\n					\n				\n					\n					\n				\n					\n					\n				\n					\n					\n					0 out of 5 stars. 0 votes.
URL:https://bigcityrunners.com/event/28-maratona-di-reggio-emilia-citta-del-tricolore/
CATEGORIES:Marathon
END:VEVENT
BEGIN:VEVENT
DTSTART;TZID=UTC:20241208T000000
DTEND;TZID=UTC:20241208T000000
DTSTAMP:20260422T070152
CREATED:20240313T100018Z
LAST-MODIFIED:20240313T100020Z
UID:2278-1733616000-1733616000@bigcityrunners.com
SUMMARY:41. California International Marathon
DESCRIPTION:Sacramento; USA-California \nAverage Rating\n					\n					\n				\n					\n					\n				\n					\n					\n				\n					\n					\n				\n					\n					\n				\n					\n					\n					0 out of 5 stars. 0 votes.
URL:https://bigcityrunners.com/event/41-california-international-marathon/
END:VEVENT
BEGIN:VEVENT
DTSTART;TZID=UTC:20241208T000000
DTEND;TZID=UTC:20241208T000000
DTSTAMP:20260422T070152
CREATED:20240313T100018Z
LAST-MODIFIED:20240313T100021Z
UID:2279-1733616000-1733616000@bigcityrunners.com
SUMMARY:51. Honolulu Marathon
DESCRIPTION:Honolulu; USA-Hawaii \nAverage Rating\n					\n					\n				\n					\n					\n				\n					\n					\n				\n					\n					\n				\n					\n					\n				\n					\n					\n					0 out of 5 stars. 0 votes.
URL:https://bigcityrunners.com/event/51-honolulu-marathon/
END:VEVENT
BEGIN:VEVENT
DTSTART;TZID=UTC:20241208T000000
DTEND;TZID=UTC:20241208T000000
DTSTAMP:20260422T070152
CREATED:20240313T100019Z
LAST-MODIFIED:20240313T100019Z
UID:2283-1733616000-1733616000@bigcityrunners.com
SUMMARY:41. California International Marathon
DESCRIPTION:USA-California \nAverage Rating\n					\n					\n				\n					\n					\n				\n					\n					\n				\n					\n					\n				\n					\n					\n				\n					\n					\n					0 out of 5 stars. 0 votes.
URL:https://bigcityrunners.com/event/41-california-international-marathon-2/
END:VEVENT
BEGIN:VEVENT
DTSTART;TZID=UTC:20241208T000000
DTEND;TZID=UTC:20241208T000000
DTSTAMP:20260422T070152
CREATED:20240313T100019Z
LAST-MODIFIED:20240313T100021Z
UID:2280-1733616000-1733616000@bigcityrunners.com
SUMMARY:16. Rock'n'Roll San Antonio Marathon
DESCRIPTION:San Antonio; USA-Texas \nAverage Rating\n					\n					\n				\n					\n					\n				\n					\n					\n				\n					\n					\n				\n					\n					\n				\n					\n					\n					0 out of 5 stars. 0 votes.
URL:https://bigcityrunners.com/event/16-rocknroll-san-antonio-marathon/
END:VEVENT
BEGIN:VEVENT
DTSTART;TZID=UTC:20241214T000000
DTEND;TZID=UTC:20241214T000000
DTSTAMP:20260422T070152
CREATED:20240313T095744Z
LAST-MODIFIED:20240313T104508Z
UID:2083-1734134400-1734134400@bigcityrunners.com
SUMMARY:23. Boscross Marathon
DESCRIPTION:Diever; Niederlande – Klick für Bewertung \n                    \n                         Stimmung an der Strecke\n                    \n                    \n                0\n              \n                    \n                         Wie schön ist die Strecke?\n                    \n                    \n                0\n              \n                    \n                         Lohnt es sich als City-Trip?\n                    \n                    \n                0\n              \n                    \n                         Versorgung während des Laufs\n                    \n                    \n                0\n              \n                    \n                         Preis/Leistung\n                    \n                    \n                0\n              \n                    \n                         Organisation generell\n                    \n                    \n                0\n              \n                    \n                        \n                            Durchschnittlich\n                            \n                        \n                    \n                \n                                    \n                                        \n                                        \n                                   \n                              \n                                        \n                                    \n                                \nAverage Rating\n					\n					\n				\n					\n					\n				\n					\n					\n				\n					\n					\n				\n					\n					\n				\n					\n					\n					0 out of 5 stars. 0 votes.
URL:https://bigcityrunners.com/event/23-boscross-marathon/
CATEGORIES:Marathon
END:VEVENT
BEGIN:VEVENT
DTSTART;TZID=UTC:20241214T000000
DTEND;TZID=UTC:20241214T000000
DTSTAMP:20260422T070152
CREATED:20240313T100019Z
LAST-MODIFIED:20240313T100021Z
UID:2282-1734134400-1734134400@bigcityrunners.com
SUMMARY:46. Kiawah Island Golf Resort Marathon
DESCRIPTION:Kiawah Island; USA-South Carolina \nAverage Rating\n					\n					\n				\n					\n					\n				\n					\n					\n				\n					\n					\n				\n					\n					\n				\n					\n					\n					0 out of 5 stars. 0 votes.
URL:https://bigcityrunners.com/event/46-kiawah-island-golf-resort-marathon/
END:VEVENT
BEGIN:VEVENT
DTSTART;TZID=UTC:20241215T000000
DTEND;TZID=UTC:20241215T000000
DTSTAMP:20260422T070152
CREATED:20240313T095745Z
LAST-MODIFIED:20240313T104508Z
UID:2084-1734220800-1734220800@bigcityrunners.com
SUMMARY:14. Generali Maraton Malaga
DESCRIPTION:Malaga; Spanien – Klick für Bewertung \n                    \n                         Stimmung an der Strecke\n                    \n                    \n                0\n              \n                    \n                         Wie schön ist die Strecke?\n                    \n                    \n                0\n              \n                    \n                         Lohnt es sich als City-Trip?\n                    \n                    \n                0\n              \n                    \n                         Versorgung während des Laufs\n                    \n                    \n                0\n              \n                    \n                         Preis/Leistung\n                    \n                    \n                0\n              \n                    \n                         Organisation generell\n                    \n                    \n                0\n              \n                    \n                        \n                            Durchschnittlich\n                            \n                        \n                    \n                \n                                    \n                                        \n                                        \n                                   \n                              \n                                        \n                                    \n                                \nAverage Rating\n					\n					\n				\n					\n					\n				\n					\n					\n				\n					\n					\n				\n					\n					\n				\n					\n					\n					0 out of 5 stars. 0 votes.
URL:https://bigcityrunners.com/event/14-generali-maraton-malaga/
CATEGORIES:Marathon
END:VEVENT
BEGIN:VEVENT
DTSTART;TZID=UTC:20241215T000000
DTEND;TZID=UTC:20241215T000000
DTSTAMP:20260422T070152
CREATED:20240313T095745Z
LAST-MODIFIED:20240313T104509Z
UID:2085-1734220800-1734220800@bigcityrunners.com
SUMMARY:25. Maratona di Pisa
DESCRIPTION:Pisa; Italien – Klick für Bewertung \n                    \n                         Stimmung an der Strecke\n                    \n                    \n                0\n              \n                    \n                         Wie schön ist die Strecke?\n                    \n                    \n                0\n              \n                    \n                         Lohnt es sich als City-Trip?\n                    \n                    \n                0\n              \n                    \n                         Versorgung während des Laufs\n                    \n                    \n                0\n              \n                    \n                         Preis/Leistung\n                    \n                    \n                0\n              \n                    \n                         Organisation generell\n                    \n                    \n                0\n              \n                    \n                        \n                            Durchschnittlich\n                            \n                        \n                    \n                \n                                    \n                                        \n                                        \n                                   \n                              \n                                        \n                                    \n                                \nAverage Rating\n					\n					\n				\n					\n					\n				\n					\n					\n				\n					\n					\n				\n					\n					\n				\n					\n					\n					0 out of 5 stars. 0 votes.
URL:https://bigcityrunners.com/event/25-maratona-di-pisa/
CATEGORIES:Marathon
END:VEVENT
BEGIN:VEVENT
DTSTART;TZID=UTC:20241215T000000
DTEND;TZID=UTC:20241215T000000
DTSTAMP:20260422T070152
CREATED:20240313T100024Z
LAST-MODIFIED:20240313T100024Z
UID:2292-1734220800-1734220800@bigcityrunners.com
SUMMARY:53. BMW Dallas Marathon
DESCRIPTION:Dallas; USA-Texas \nAverage Rating\n					\n					\n				\n					\n					\n				\n					\n					\n				\n					\n					\n				\n					\n					\n				\n					\n					\n					0 out of 5 stars. 0 votes.
URL:https://bigcityrunners.com/event/53-bmw-dallas-marathon/
END:VEVENT
BEGIN:VEVENT
DTSTART;TZID=UTC:20241221T000000
DTEND;TZID=UTC:20241221T000000
DTSTAMP:20260422T070152
CREATED:20240313T095746Z
LAST-MODIFIED:20240313T104509Z
UID:2086-1734739200-1734739200@bigcityrunners.com
SUMMARY:11. Vanocni Maraton okolo Bolevaku *(Weihnachts-Marathon)
DESCRIPTION:Pilsen; Tschechien – Klick für Bewertung \n                    \n                         Stimmung an der Strecke\n                    \n                    \n                0\n              \n                    \n                         Wie schön ist die Strecke?\n                    \n                    \n                0\n              \n                    \n                         Lohnt es sich als City-Trip?\n                    \n                    \n                0\n              \n                    \n                         Versorgung während des Laufs\n                    \n                    \n                0\n              \n                    \n                         Preis/Leistung\n                    \n                    \n                0\n              \n                    \n                         Organisation generell\n                    \n                    \n                0\n              \n                    \n                        \n                            Durchschnittlich\n                            \n                        \n                    \n                \n                                    \n                                        \n                                        \n                                   \n                              \n                                        \n                                    \n                                \nAverage Rating\n					\n					\n				\n					\n					\n				\n					\n					\n				\n					\n					\n				\n					\n					\n				\n					\n					\n					0 out of 5 stars. 0 votes.
URL:https://bigcityrunners.com/event/11-vanocni-maraton-okolo-bolevaku-weihnachts-marathon/
CATEGORIES:Marathon
END:VEVENT
BEGIN:VEVENT
DTSTART;TZID=UTC:20241222T000000
DTEND;TZID=UTC:20241222T000000
DTSTAMP:20260422T070152
CREATED:20240313T095753Z
LAST-MODIFIED:20240313T104514Z
UID:2092-1734825600-1734825600@bigcityrunners.com
SUMMARY:6. Langenzersdorfer Weihnachtsmarathon
DESCRIPTION:Langenzersdorf; Österreich – Klick für Bewertung \n                    \n                         Stimmung an der Strecke\n                    \n                    \n                0\n              \n                    \n                         Wie schön ist die Strecke?\n                    \n                    \n                0\n              \n                    \n                         Lohnt es sich als City-Trip?\n                    \n                    \n                0\n              \n                    \n                         Versorgung während des Laufs\n                    \n                    \n                0\n              \n                    \n                         Preis/Leistung\n                    \n                    \n                0\n              \n                    \n                         Organisation generell\n                    \n                    \n                0\n              \n                    \n                        \n                            Durchschnittlich\n                            \n                        \n                    \n                \n                                    \n                                        \n                                        \n                                   \n                              \n                                        \n                                    \n                                \nAverage Rating\n					\n					\n				\n					\n					\n				\n					\n					\n				\n					\n					\n				\n					\n					\n				\n					\n					\n					0 out of 5 stars. 0 votes.
URL:https://bigcityrunners.com/event/6-langenzersdorfer-weihnachtsmarathon/
CATEGORIES:Marathon
END:VEVENT
BEGIN:VEVENT
DTSTART;TZID=UTC:20241222T000000
DTEND;TZID=UTC:20241222T000000
DTSTAMP:20260422T070152
CREATED:20240313T100025Z
LAST-MODIFIED:20240313T100025Z
UID:2293-1734825600-1734825600@bigcityrunners.com
SUMMARY:4. Photak Marathon
DESCRIPTION:Photak; Thailand \nAverage Rating\n					\n					\n				\n					\n					\n				\n					\n					\n				\n					\n					\n				\n					\n					\n				\n					\n					\n					0 out of 5 stars. 0 votes.
URL:https://bigcityrunners.com/event/4-photak-marathon/
END:VEVENT
BEGIN:VEVENT
DTSTART;TZID=UTC:20241231T000000
DTEND;TZID=UTC:20241231T000000
DTSTAMP:20260422T070152
CREATED:20240313T095753Z
LAST-MODIFIED:20240313T104514Z
UID:2093-1735603200-1735603200@bigcityrunners.com
SUMMARY:7. Silvestrovsky maraton *(Sivester-Marathon\, Start um 20:00 Uhr)
DESCRIPTION:Pilsen; Tschechien – Klick für Bewertung \n                    \n                         Stimmung an der Strecke\n                    \n                    \n                0\n              \n                    \n                         Wie schön ist die Strecke?\n                    \n                    \n                0\n              \n                    \n                         Lohnt es sich als City-Trip?\n                    \n                    \n                0\n              \n                    \n                         Versorgung während des Laufs\n                    \n                    \n                0\n              \n                    \n                         Preis/Leistung\n                    \n                    \n                0\n              \n                    \n                         Organisation generell\n                    \n                    \n                0\n              \n                    \n                        \n                            Durchschnittlich\n                            \n                        \n                    \n                \n                                    \n                                        \n                                        \n                                   \n                              \n                                        \n                                    \n                                \nAverage Rating\n					\n					\n				\n					\n					\n				\n					\n					\n				\n					\n					\n				\n					\n					\n				\n					\n					\n					0 out of 5 stars. 0 votes.
URL:https://bigcityrunners.com/event/7-silvestrovsky-maraton-sivester-marathon-start-um-2000-uhr/
CATEGORIES:Marathon
END:VEVENT
END:VCALENDAR